BEGIN:VCALENDAR
VERSION:2.0
PRODID:-//The Green Mountain Higher Education Consortium - ECPv6.15.20//NONSGML v1.0//EN
CALSCALE:GREGORIAN
METHOD:PUBLISH
X-WR-CALNAME:The Green Mountain Higher Education Consortium
X-ORIGINAL-URL:https://gmhec.org
X-WR-CALDESC:Events for The Green Mountain Higher Education Consortium
REFRESH-INTERVAL;VALUE=DURATION:PT1H
X-Robots-Tag:noindex
X-PUBLISHED-TTL:PT1H
BEGIN:VTIMEZONE
TZID:America/New_York
BEGIN:DAYLIGHT
TZOFFSETFROM:-0500
TZOFFSETTO:-0400
TZNAME:EDT
DTSTART:20250309T070000
END:DAYLIGHT
BEGIN:STANDARD
TZOFFSETFROM:-0400
TZOFFSETTO:-0500
TZNAME:EST
DTSTART:20251102T060000
END:STANDARD
BEGIN:DAYLIGHT
TZOFFSETFROM:-0500
TZOFFSETTO:-0400
TZNAME:EDT
DTSTART:20260308T070000
END:DAYLIGHT
BEGIN:STANDARD
TZOFFSETFROM:-0400
TZOFFSETTO:-0500
TZNAME:EST
DTSTART:20261101T060000
END:STANDARD
BEGIN:DAYLIGHT
TZOFFSETFROM:-0500
TZOFFSETTO:-0400
TZNAME:EDT
DTSTART:20270314T070000
END:DAYLIGHT
BEGIN:STANDARD
TZOFFSETFROM:-0400
TZOFFSETTO:-0500
TZNAME:EST
DTSTART:20271107T060000
END:STANDARD
END:VTIMEZONE
BEGIN:VEVENT
DTSTART;TZID=America/New_York:20260117T140000
DTEND;TZID=America/New_York:20260117T153000
DTSTAMP:20260424T043254
CREATED:20260105T154132Z
LAST-MODIFIED:20260105T154134Z
UID:10001798-1768658400-1768663800@gmhec.org
SUMMARY:Guided Short Trail Hike
DESCRIPTION:Join the Green Mountain Club’s Visitor Center staff for a hike on the Short Trail! Learn more about hiking in Vermont\, the Long Trail and the Green Mountain Club\, and seasonal hiking tips and recommendations as we explore the 0.5 mile loop at GMC’s headquarters building in Waterbury Center. These hikes are open to hikers of all ages\, from beginner day hiker to seasoned backpacker. Allow about an hour with plenty of stops to explore. \n\n\n\nNo RSVP necessary; for questions\, email gmc@greenmountainclub.org or call 802-244-7037. Green Mountain Club Inc.\, 4711 Waterbury-Stowe Rd\, Waterbury Center\, VT 05677\, USA
URL:https://gmhec.org/event/guided-short-trail-hike/
CATEGORIES:Physical Well-Being,Well-Being
END:VEVENT
END:VCALENDAR