BEGIN:VCALENDAR
VERSION:2.0
PRODID:-//The Green Mountain Higher Education Consortium - ECPv6.15.20//NONSGML v1.0//EN
CALSCALE:GREGORIAN
METHOD:PUBLISH
X-ORIGINAL-URL:https://gmhec.org
X-WR-CALDESC:Events for The Green Mountain Higher Education Consortium
REFRESH-INTERVAL;VALUE=DURATION:PT1H
X-Robots-Tag:noindex
X-PUBLISHED-TTL:PT1H
BEGIN:VTIMEZONE
TZID:America/New_York
BEGIN:DAYLIGHT
TZOFFSETFROM:-0500
TZOFFSETTO:-0400
TZNAME:EDT
DTSTART:20260308T070000
END:DAYLIGHT
BEGIN:STANDARD
TZOFFSETFROM:-0400
TZOFFSETTO:-0500
TZNAME:EST
DTSTART:20261101T060000
END:STANDARD
BEGIN:DAYLIGHT
TZOFFSETFROM:-0500
TZOFFSETTO:-0400
TZNAME:EDT
DTSTART:20270314T070000
END:DAYLIGHT
BEGIN:STANDARD
TZOFFSETFROM:-0400
TZOFFSETTO:-0500
TZNAME:EST
DTSTART:20271107T060000
END:STANDARD
BEGIN:DAYLIGHT
TZOFFSETFROM:-0500
TZOFFSETTO:-0400
TZNAME:EDT
DTSTART:20280312T070000
END:DAYLIGHT
BEGIN:STANDARD
TZOFFSETFROM:-0400
TZOFFSETTO:-0500
TZNAME:EST
DTSTART:20281105T060000
END:STANDARD
END:VTIMEZONE
BEGIN:VEVENT
DTSTART;TZID=America/New_York:20270518T133000
DTEND;TZID=America/New_York:20270518T134500
DTSTAMP:20260420T014058
CREATED:20250501T205538Z
LAST-MODIFIED:20250501T205539Z
UID:10001592-1810647000-1810647900@gmhec.org
SUMMARY:Mindful Pause
DESCRIPTION:Join Coach Cami\, founder of Guided Resilience for a Mindful Pause practice which will include a body practice or mindfulness exercise. This midday pause will interrupt the stress response and reclaim a connection to your inner stability and peace.  \n\n\n\nClick here to learn more or to register.
URL:https://gmhec.org/event/mindful-pause/2027-05-18/
CATEGORIES:Social Well-Being,Webinar,Webinar for Everyone,Well-Being
END:VEVENT
BEGIN:VEVENT
DTSTART;TZID=America/New_York:20270520T100000
DTEND;TZID=America/New_York:20270520T110000
DTSTAMP:20260420T014058
CREATED:20250501T204425Z
LAST-MODIFIED:20250501T204427Z
UID:10001332-1810807200-1810810800@gmhec.org
SUMMARY:Movement Meditation
DESCRIPTION:Join Coach Cami\, owner of Guided Resilience fort this is movement class that incorporates basic yoga postures and movement patterns that are easily adaptable to most individuals. You are invited to move as you can – not as you can’t – breathing peace and stability in facing challenge and possibility. \n\n\n\n$5/class You can pay as you go for as many sessions as you like. Honor system. Venmo: Guided Resilience @Guidedresilience   \n\n\n\nClick here to learn more.
URL:https://gmhec.org/event/movement-meditation/2027-05-20/
CATEGORIES:Physical Well-Being,Webinar,Webinar for Everyone,Well-Being
END:VEVENT
BEGIN:VEVENT
DTSTART;TZID=America/New_York:20270525T133000
DTEND;TZID=America/New_York:20270525T134500
DTSTAMP:20260420T014058
CREATED:20250501T205538Z
LAST-MODIFIED:20250501T205539Z
UID:10001593-1811251800-1811252700@gmhec.org
SUMMARY:Mindful Pause
DESCRIPTION:Join Coach Cami\, founder of Guided Resilience for a Mindful Pause practice which will include a body practice or mindfulness exercise. This midday pause will interrupt the stress response and reclaim a connection to your inner stability and peace.  \n\n\n\nClick here to learn more or to register.
URL:https://gmhec.org/event/mindful-pause/2027-05-25/
CATEGORIES:Social Well-Being,Webinar,Webinar for Everyone,Well-Being
END:VEVENT
BEGIN:VEVENT
DTSTART;TZID=America/New_York:20270527T100000
DTEND;TZID=America/New_York:20270527T110000
DTSTAMP:20260420T014058
CREATED:20250501T204425Z
LAST-MODIFIED:20250501T204427Z
UID:10001333-1811412000-1811415600@gmhec.org
SUMMARY:Movement Meditation
DESCRIPTION:Join Coach Cami\, owner of Guided Resilience fort this is movement class that incorporates basic yoga postures and movement patterns that are easily adaptable to most individuals. You are invited to move as you can – not as you can’t – breathing peace and stability in facing challenge and possibility. \n\n\n\n$5/class You can pay as you go for as many sessions as you like. Honor system. Venmo: Guided Resilience @Guidedresilience   \n\n\n\nClick here to learn more.
URL:https://gmhec.org/event/movement-meditation/2027-05-27/
CATEGORIES:Physical Well-Being,Webinar,Webinar for Everyone,Well-Being
END:VEVENT
BEGIN:VEVENT
DTSTART;TZID=America/New_York:20270601T133000
DTEND;TZID=America/New_York:20270601T134500
DTSTAMP:20260420T014058
CREATED:20250501T205538Z
LAST-MODIFIED:20250501T205539Z
UID:10001594-1811856600-1811857500@gmhec.org
SUMMARY:Mindful Pause
DESCRIPTION:Join Coach Cami\, founder of Guided Resilience for a Mindful Pause practice which will include a body practice or mindfulness exercise. This midday pause will interrupt the stress response and reclaim a connection to your inner stability and peace.  \n\n\n\nClick here to learn more or to register.
URL:https://gmhec.org/event/mindful-pause/2027-06-01/
CATEGORIES:Social Well-Being,Webinar,Webinar for Everyone,Well-Being
END:VEVENT
BEGIN:VEVENT
DTSTART;TZID=America/New_York:20270603T100000
DTEND;TZID=America/New_York:20270603T110000
DTSTAMP:20260420T014058
CREATED:20250501T204425Z
LAST-MODIFIED:20250501T204427Z
UID:10001334-1812016800-1812020400@gmhec.org
SUMMARY:Movement Meditation
DESCRIPTION:Join Coach Cami\, owner of Guided Resilience fort this is movement class that incorporates basic yoga postures and movement patterns that are easily adaptable to most individuals. You are invited to move as you can – not as you can’t – breathing peace and stability in facing challenge and possibility. \n\n\n\n$5/class You can pay as you go for as many sessions as you like. Honor system. Venmo: Guided Resilience @Guidedresilience   \n\n\n\nClick here to learn more.
URL:https://gmhec.org/event/movement-meditation/2027-06-03/
CATEGORIES:Physical Well-Being,Webinar,Webinar for Everyone,Well-Being
END:VEVENT
BEGIN:VEVENT
DTSTART;TZID=America/New_York:20270608T133000
DTEND;TZID=America/New_York:20270608T134500
DTSTAMP:20260420T014058
CREATED:20250501T205538Z
LAST-MODIFIED:20250501T205539Z
UID:10001595-1812461400-1812462300@gmhec.org
SUMMARY:Mindful Pause
DESCRIPTION:Join Coach Cami\, founder of Guided Resilience for a Mindful Pause practice which will include a body practice or mindfulness exercise. This midday pause will interrupt the stress response and reclaim a connection to your inner stability and peace.  \n\n\n\nClick here to learn more or to register.
URL:https://gmhec.org/event/mindful-pause/2027-06-08/
CATEGORIES:Social Well-Being,Webinar,Webinar for Everyone,Well-Being
END:VEVENT
BEGIN:VEVENT
DTSTART;TZID=America/New_York:20270610T100000
DTEND;TZID=America/New_York:20270610T110000
DTSTAMP:20260420T014058
CREATED:20250501T204425Z
LAST-MODIFIED:20250501T204427Z
UID:10001335-1812621600-1812625200@gmhec.org
SUMMARY:Movement Meditation
DESCRIPTION:Join Coach Cami\, owner of Guided Resilience fort this is movement class that incorporates basic yoga postures and movement patterns that are easily adaptable to most individuals. You are invited to move as you can – not as you can’t – breathing peace and stability in facing challenge and possibility. \n\n\n\n$5/class You can pay as you go for as many sessions as you like. Honor system. Venmo: Guided Resilience @Guidedresilience   \n\n\n\nClick here to learn more.
URL:https://gmhec.org/event/movement-meditation/2027-06-10/
CATEGORIES:Physical Well-Being,Webinar,Webinar for Everyone,Well-Being
END:VEVENT
BEGIN:VEVENT
DTSTART;TZID=America/New_York:20270615T133000
DTEND;TZID=America/New_York:20270615T134500
DTSTAMP:20260420T014058
CREATED:20250501T205538Z
LAST-MODIFIED:20250501T205539Z
UID:10001596-1813066200-1813067100@gmhec.org
SUMMARY:Mindful Pause
DESCRIPTION:Join Coach Cami\, founder of Guided Resilience for a Mindful Pause practice which will include a body practice or mindfulness exercise. This midday pause will interrupt the stress response and reclaim a connection to your inner stability and peace.  \n\n\n\nClick here to learn more or to register.
URL:https://gmhec.org/event/mindful-pause/2027-06-15/
CATEGORIES:Social Well-Being,Webinar,Webinar for Everyone,Well-Being
END:VEVENT
BEGIN:VEVENT
DTSTART;TZID=America/New_York:20270617T100000
DTEND;TZID=America/New_York:20270617T110000
DTSTAMP:20260420T014058
CREATED:20250501T204425Z
LAST-MODIFIED:20250501T204427Z
UID:10001336-1813226400-1813230000@gmhec.org
SUMMARY:Movement Meditation
DESCRIPTION:Join Coach Cami\, owner of Guided Resilience fort this is movement class that incorporates basic yoga postures and movement patterns that are easily adaptable to most individuals. You are invited to move as you can – not as you can’t – breathing peace and stability in facing challenge and possibility. \n\n\n\n$5/class You can pay as you go for as many sessions as you like. Honor system. Venmo: Guided Resilience @Guidedresilience   \n\n\n\nClick here to learn more.
URL:https://gmhec.org/event/movement-meditation/2027-06-17/
CATEGORIES:Physical Well-Being,Webinar,Webinar for Everyone,Well-Being
END:VEVENT
BEGIN:VEVENT
DTSTART;TZID=America/New_York:20270622T133000
DTEND;TZID=America/New_York:20270622T134500
DTSTAMP:20260420T014058
CREATED:20250501T205538Z
LAST-MODIFIED:20250501T205539Z
UID:10001597-1813671000-1813671900@gmhec.org
SUMMARY:Mindful Pause
DESCRIPTION:Join Coach Cami\, founder of Guided Resilience for a Mindful Pause practice which will include a body practice or mindfulness exercise. This midday pause will interrupt the stress response and reclaim a connection to your inner stability and peace.  \n\n\n\nClick here to learn more or to register.
URL:https://gmhec.org/event/mindful-pause/2027-06-22/
CATEGORIES:Social Well-Being,Webinar,Webinar for Everyone,Well-Being
END:VEVENT
BEGIN:VEVENT
DTSTART;TZID=America/New_York:20270624T100000
DTEND;TZID=America/New_York:20270624T110000
DTSTAMP:20260420T014058
CREATED:20250501T204425Z
LAST-MODIFIED:20250501T204427Z
UID:10001337-1813831200-1813834800@gmhec.org
SUMMARY:Movement Meditation
DESCRIPTION:Join Coach Cami\, owner of Guided Resilience fort this is movement class that incorporates basic yoga postures and movement patterns that are easily adaptable to most individuals. You are invited to move as you can – not as you can’t – breathing peace and stability in facing challenge and possibility. \n\n\n\n$5/class You can pay as you go for as many sessions as you like. Honor system. Venmo: Guided Resilience @Guidedresilience   \n\n\n\nClick here to learn more.
URL:https://gmhec.org/event/movement-meditation/2027-06-24/
CATEGORIES:Physical Well-Being,Webinar,Webinar for Everyone,Well-Being
END:VEVENT
BEGIN:VEVENT
DTSTART;TZID=America/New_York:20270629T133000
DTEND;TZID=America/New_York:20270629T134500
DTSTAMP:20260420T014058
CREATED:20250501T205538Z
LAST-MODIFIED:20250501T205539Z
UID:10001598-1814275800-1814276700@gmhec.org
SUMMARY:Mindful Pause
DESCRIPTION:Join Coach Cami\, founder of Guided Resilience for a Mindful Pause practice which will include a body practice or mindfulness exercise. This midday pause will interrupt the stress response and reclaim a connection to your inner stability and peace.  \n\n\n\nClick here to learn more or to register.
URL:https://gmhec.org/event/mindful-pause/2027-06-29/
CATEGORIES:Social Well-Being,Webinar,Webinar for Everyone,Well-Being
END:VEVENT
BEGIN:VEVENT
DTSTART;TZID=America/New_York:20270701T100000
DTEND;TZID=America/New_York:20270701T110000
DTSTAMP:20260420T014058
CREATED:20250501T204425Z
LAST-MODIFIED:20250501T204427Z
UID:10001338-1814436000-1814439600@gmhec.org
SUMMARY:Movement Meditation
DESCRIPTION:Join Coach Cami\, owner of Guided Resilience fort this is movement class that incorporates basic yoga postures and movement patterns that are easily adaptable to most individuals. You are invited to move as you can – not as you can’t – breathing peace and stability in facing challenge and possibility. \n\n\n\n$5/class You can pay as you go for as many sessions as you like. Honor system. Venmo: Guided Resilience @Guidedresilience   \n\n\n\nClick here to learn more.
URL:https://gmhec.org/event/movement-meditation/2027-07-01/
CATEGORIES:Physical Well-Being,Webinar,Webinar for Everyone,Well-Being
END:VEVENT
BEGIN:VEVENT
DTSTART;TZID=America/New_York:20270706T133000
DTEND;TZID=America/New_York:20270706T134500
DTSTAMP:20260420T014058
CREATED:20250501T205538Z
LAST-MODIFIED:20250501T205539Z
UID:10001599-1814880600-1814881500@gmhec.org
SUMMARY:Mindful Pause
DESCRIPTION:Join Coach Cami\, founder of Guided Resilience for a Mindful Pause practice which will include a body practice or mindfulness exercise. This midday pause will interrupt the stress response and reclaim a connection to your inner stability and peace.  \n\n\n\nClick here to learn more or to register.
URL:https://gmhec.org/event/mindful-pause/2027-07-06/
CATEGORIES:Social Well-Being,Webinar,Webinar for Everyone,Well-Being
END:VEVENT
BEGIN:VEVENT
DTSTART;TZID=America/New_York:20270708T100000
DTEND;TZID=America/New_York:20270708T110000
DTSTAMP:20260420T014058
CREATED:20250501T204425Z
LAST-MODIFIED:20250501T204427Z
UID:10001339-1815040800-1815044400@gmhec.org
SUMMARY:Movement Meditation
DESCRIPTION:Join Coach Cami\, owner of Guided Resilience fort this is movement class that incorporates basic yoga postures and movement patterns that are easily adaptable to most individuals. You are invited to move as you can – not as you can’t – breathing peace and stability in facing challenge and possibility. \n\n\n\n$5/class You can pay as you go for as many sessions as you like. Honor system. Venmo: Guided Resilience @Guidedresilience   \n\n\n\nClick here to learn more.
URL:https://gmhec.org/event/movement-meditation/2027-07-08/
CATEGORIES:Physical Well-Being,Webinar,Webinar for Everyone,Well-Being
END:VEVENT
BEGIN:VEVENT
DTSTART;TZID=America/New_York:20270713T133000
DTEND;TZID=America/New_York:20270713T134500
DTSTAMP:20260420T014058
CREATED:20250501T205538Z
LAST-MODIFIED:20250501T205539Z
UID:10001600-1815485400-1815486300@gmhec.org
SUMMARY:Mindful Pause
DESCRIPTION:Join Coach Cami\, founder of Guided Resilience for a Mindful Pause practice which will include a body practice or mindfulness exercise. This midday pause will interrupt the stress response and reclaim a connection to your inner stability and peace.  \n\n\n\nClick here to learn more or to register.
URL:https://gmhec.org/event/mindful-pause/2027-07-13/
CATEGORIES:Social Well-Being,Webinar,Webinar for Everyone,Well-Being
END:VEVENT
BEGIN:VEVENT
DTSTART;TZID=America/New_York:20270715T100000
DTEND;TZID=America/New_York:20270715T110000
DTSTAMP:20260420T014058
CREATED:20250501T204425Z
LAST-MODIFIED:20250501T204427Z
UID:10001340-1815645600-1815649200@gmhec.org
SUMMARY:Movement Meditation
DESCRIPTION:Join Coach Cami\, owner of Guided Resilience fort this is movement class that incorporates basic yoga postures and movement patterns that are easily adaptable to most individuals. You are invited to move as you can – not as you can’t – breathing peace and stability in facing challenge and possibility. \n\n\n\n$5/class You can pay as you go for as many sessions as you like. Honor system. Venmo: Guided Resilience @Guidedresilience   \n\n\n\nClick here to learn more.
URL:https://gmhec.org/event/movement-meditation/2027-07-15/
CATEGORIES:Physical Well-Being,Webinar,Webinar for Everyone,Well-Being
END:VEVENT
BEGIN:VEVENT
DTSTART;TZID=America/New_York:20270720T133000
DTEND;TZID=America/New_York:20270720T134500
DTSTAMP:20260420T014058
CREATED:20250501T205538Z
LAST-MODIFIED:20250501T205539Z
UID:10001601-1816090200-1816091100@gmhec.org
SUMMARY:Mindful Pause
DESCRIPTION:Join Coach Cami\, founder of Guided Resilience for a Mindful Pause practice which will include a body practice or mindfulness exercise. This midday pause will interrupt the stress response and reclaim a connection to your inner stability and peace.  \n\n\n\nClick here to learn more or to register.
URL:https://gmhec.org/event/mindful-pause/2027-07-20/
CATEGORIES:Social Well-Being,Webinar,Webinar for Everyone,Well-Being
END:VEVENT
BEGIN:VEVENT
DTSTART;TZID=America/New_York:20270722T100000
DTEND;TZID=America/New_York:20270722T110000
DTSTAMP:20260420T014058
CREATED:20250501T204425Z
LAST-MODIFIED:20250501T204427Z
UID:10001341-1816250400-1816254000@gmhec.org
SUMMARY:Movement Meditation
DESCRIPTION:Join Coach Cami\, owner of Guided Resilience fort this is movement class that incorporates basic yoga postures and movement patterns that are easily adaptable to most individuals. You are invited to move as you can – not as you can’t – breathing peace and stability in facing challenge and possibility. \n\n\n\n$5/class You can pay as you go for as many sessions as you like. Honor system. Venmo: Guided Resilience @Guidedresilience   \n\n\n\nClick here to learn more.
URL:https://gmhec.org/event/movement-meditation/2027-07-22/
CATEGORIES:Physical Well-Being,Webinar,Webinar for Everyone,Well-Being
END:VEVENT
BEGIN:VEVENT
DTSTART;TZID=America/New_York:20270727T133000
DTEND;TZID=America/New_York:20270727T134500
DTSTAMP:20260420T014058
CREATED:20250501T205538Z
LAST-MODIFIED:20250501T205539Z
UID:10001602-1816695000-1816695900@gmhec.org
SUMMARY:Mindful Pause
DESCRIPTION:Join Coach Cami\, founder of Guided Resilience for a Mindful Pause practice which will include a body practice or mindfulness exercise. This midday pause will interrupt the stress response and reclaim a connection to your inner stability and peace.  \n\n\n\nClick here to learn more or to register.
URL:https://gmhec.org/event/mindful-pause/2027-07-27/
CATEGORIES:Social Well-Being,Webinar,Webinar for Everyone,Well-Being
END:VEVENT
BEGIN:VEVENT
DTSTART;TZID=America/New_York:20270729T100000
DTEND;TZID=America/New_York:20270729T110000
DTSTAMP:20260420T014058
CREATED:20250501T204425Z
LAST-MODIFIED:20250501T204427Z
UID:10001342-1816855200-1816858800@gmhec.org
SUMMARY:Movement Meditation
DESCRIPTION:Join Coach Cami\, owner of Guided Resilience fort this is movement class that incorporates basic yoga postures and movement patterns that are easily adaptable to most individuals. You are invited to move as you can – not as you can’t – breathing peace and stability in facing challenge and possibility. \n\n\n\n$5/class You can pay as you go for as many sessions as you like. Honor system. Venmo: Guided Resilience @Guidedresilience   \n\n\n\nClick here to learn more.
URL:https://gmhec.org/event/movement-meditation/2027-07-29/
CATEGORIES:Physical Well-Being,Webinar,Webinar for Everyone,Well-Being
END:VEVENT
BEGIN:VEVENT
DTSTART;TZID=America/New_York:20270803T133000
DTEND;TZID=America/New_York:20270803T134500
DTSTAMP:20260420T014058
CREATED:20250501T205538Z
LAST-MODIFIED:20250501T205539Z
UID:10001603-1817299800-1817300700@gmhec.org
SUMMARY:Mindful Pause
DESCRIPTION:Join Coach Cami\, founder of Guided Resilience for a Mindful Pause practice which will include a body practice or mindfulness exercise. This midday pause will interrupt the stress response and reclaim a connection to your inner stability and peace.  \n\n\n\nClick here to learn more or to register.
URL:https://gmhec.org/event/mindful-pause/2027-08-03/
CATEGORIES:Social Well-Being,Webinar,Webinar for Everyone,Well-Being
END:VEVENT
BEGIN:VEVENT
DTSTART;TZID=America/New_York:20270805T100000
DTEND;TZID=America/New_York:20270805T110000
DTSTAMP:20260420T014058
CREATED:20250501T204425Z
LAST-MODIFIED:20250501T204427Z
UID:10001343-1817460000-1817463600@gmhec.org
SUMMARY:Movement Meditation
DESCRIPTION:Join Coach Cami\, owner of Guided Resilience fort this is movement class that incorporates basic yoga postures and movement patterns that are easily adaptable to most individuals. You are invited to move as you can – not as you can’t – breathing peace and stability in facing challenge and possibility. \n\n\n\n$5/class You can pay as you go for as many sessions as you like. Honor system. Venmo: Guided Resilience @Guidedresilience   \n\n\n\nClick here to learn more.
URL:https://gmhec.org/event/movement-meditation/2027-08-05/
CATEGORIES:Physical Well-Being,Webinar,Webinar for Everyone,Well-Being
END:VEVENT
BEGIN:VEVENT
DTSTART;TZID=America/New_York:20270810T133000
DTEND;TZID=America/New_York:20270810T134500
DTSTAMP:20260420T014058
CREATED:20250501T205538Z
LAST-MODIFIED:20250501T205539Z
UID:10001604-1817904600-1817905500@gmhec.org
SUMMARY:Mindful Pause
DESCRIPTION:Join Coach Cami\, founder of Guided Resilience for a Mindful Pause practice which will include a body practice or mindfulness exercise. This midday pause will interrupt the stress response and reclaim a connection to your inner stability and peace.  \n\n\n\nClick here to learn more or to register.
URL:https://gmhec.org/event/mindful-pause/2027-08-10/
CATEGORIES:Social Well-Being,Webinar,Webinar for Everyone,Well-Being
END:VEVENT
BEGIN:VEVENT
DTSTART;TZID=America/New_York:20270812T100000
DTEND;TZID=America/New_York:20270812T110000
DTSTAMP:20260420T014058
CREATED:20250501T204425Z
LAST-MODIFIED:20250501T204427Z
UID:10001344-1818064800-1818068400@gmhec.org
SUMMARY:Movement Meditation
DESCRIPTION:Join Coach Cami\, owner of Guided Resilience fort this is movement class that incorporates basic yoga postures and movement patterns that are easily adaptable to most individuals. You are invited to move as you can – not as you can’t – breathing peace and stability in facing challenge and possibility. \n\n\n\n$5/class You can pay as you go for as many sessions as you like. Honor system. Venmo: Guided Resilience @Guidedresilience   \n\n\n\nClick here to learn more.
URL:https://gmhec.org/event/movement-meditation/2027-08-12/
CATEGORIES:Physical Well-Being,Webinar,Webinar for Everyone,Well-Being
END:VEVENT
BEGIN:VEVENT
DTSTART;TZID=America/New_York:20270817T133000
DTEND;TZID=America/New_York:20270817T134500
DTSTAMP:20260420T014058
CREATED:20250501T205538Z
LAST-MODIFIED:20250501T205539Z
UID:10001605-1818509400-1818510300@gmhec.org
SUMMARY:Mindful Pause
DESCRIPTION:Join Coach Cami\, founder of Guided Resilience for a Mindful Pause practice which will include a body practice or mindfulness exercise. This midday pause will interrupt the stress response and reclaim a connection to your inner stability and peace.  \n\n\n\nClick here to learn more or to register.
URL:https://gmhec.org/event/mindful-pause/2027-08-17/
CATEGORIES:Social Well-Being,Webinar,Webinar for Everyone,Well-Being
END:VEVENT
BEGIN:VEVENT
DTSTART;TZID=America/New_York:20270819T100000
DTEND;TZID=America/New_York:20270819T110000
DTSTAMP:20260420T014058
CREATED:20250501T204425Z
LAST-MODIFIED:20250501T204427Z
UID:10001345-1818669600-1818673200@gmhec.org
SUMMARY:Movement Meditation
DESCRIPTION:Join Coach Cami\, owner of Guided Resilience fort this is movement class that incorporates basic yoga postures and movement patterns that are easily adaptable to most individuals. You are invited to move as you can – not as you can’t – breathing peace and stability in facing challenge and possibility. \n\n\n\n$5/class You can pay as you go for as many sessions as you like. Honor system. Venmo: Guided Resilience @Guidedresilience   \n\n\n\nClick here to learn more.
URL:https://gmhec.org/event/movement-meditation/2027-08-19/
CATEGORIES:Physical Well-Being,Webinar,Webinar for Everyone,Well-Being
END:VEVENT
BEGIN:VEVENT
DTSTART;TZID=America/New_York:20270824T133000
DTEND;TZID=America/New_York:20270824T134500
DTSTAMP:20260420T014058
CREATED:20250501T205538Z
LAST-MODIFIED:20250501T205539Z
UID:10001606-1819114200-1819115100@gmhec.org
SUMMARY:Mindful Pause
DESCRIPTION:Join Coach Cami\, founder of Guided Resilience for a Mindful Pause practice which will include a body practice or mindfulness exercise. This midday pause will interrupt the stress response and reclaim a connection to your inner stability and peace.  \n\n\n\nClick here to learn more or to register.
URL:https://gmhec.org/event/mindful-pause/2027-08-24/
CATEGORIES:Social Well-Being,Webinar,Webinar for Everyone,Well-Being
END:VEVENT
BEGIN:VEVENT
DTSTART;TZID=America/New_York:20270826T100000
DTEND;TZID=America/New_York:20270826T110000
DTSTAMP:20260420T014058
CREATED:20250501T204425Z
LAST-MODIFIED:20250501T204427Z
UID:10001346-1819274400-1819278000@gmhec.org
SUMMARY:Movement Meditation
DESCRIPTION:Join Coach Cami\, owner of Guided Resilience fort this is movement class that incorporates basic yoga postures and movement patterns that are easily adaptable to most individuals. You are invited to move as you can – not as you can’t – breathing peace and stability in facing challenge and possibility. \n\n\n\n$5/class You can pay as you go for as many sessions as you like. Honor system. Venmo: Guided Resilience @Guidedresilience   \n\n\n\nClick here to learn more.
URL:https://gmhec.org/event/movement-meditation/2027-08-26/
CATEGORIES:Physical Well-Being,Webinar,Webinar for Everyone,Well-Being
END:VEVENT
END:VCALENDAR