BEGIN:VCALENDAR
VERSION:2.0
PRODID:-//The Green Mountain Higher Education Consortium - ECPv6.15.20//NONSGML v1.0//EN
CALSCALE:GREGORIAN
METHOD:PUBLISH
X-WR-CALNAME:The Green Mountain Higher Education Consortium
X-ORIGINAL-URL:https://gmhec.org
X-WR-CALDESC:Events for The Green Mountain Higher Education Consortium
REFRESH-INTERVAL;VALUE=DURATION:PT1H
X-Robots-Tag:noindex
X-PUBLISHED-TTL:PT1H
BEGIN:VTIMEZONE
TZID:America/New_York
BEGIN:DAYLIGHT
TZOFFSETFROM:-0500
TZOFFSETTO:-0400
TZNAME:EDT
DTSTART:20270314T070000
END:DAYLIGHT
BEGIN:STANDARD
TZOFFSETFROM:-0400
TZOFFSETTO:-0500
TZNAME:EST
DTSTART:20271107T060000
END:STANDARD
BEGIN:DAYLIGHT
TZOFFSETFROM:-0500
TZOFFSETTO:-0400
TZNAME:EDT
DTSTART:20280312T070000
END:DAYLIGHT
BEGIN:STANDARD
TZOFFSETFROM:-0400
TZOFFSETTO:-0500
TZNAME:EST
DTSTART:20281105T060000
END:STANDARD
BEGIN:DAYLIGHT
TZOFFSETFROM:-0500
TZOFFSETTO:-0400
TZNAME:EDT
DTSTART:20290311T070000
END:DAYLIGHT
BEGIN:STANDARD
TZOFFSETFROM:-0400
TZOFFSETTO:-0500
TZNAME:EST
DTSTART:20291104T060000
END:STANDARD
END:VTIMEZONE
BEGIN:VEVENT
DTSTART;TZID=America/New_York:20280425T133000
DTEND;TZID=America/New_York:20280425T134500
DTSTAMP:20260422T042152
CREATED:20250501T205538Z
LAST-MODIFIED:20250501T205539Z
UID:10001641-1840282200-1840283100@gmhec.org
SUMMARY:Mindful Pause
DESCRIPTION:Join Coach Cami\, founder of Guided Resilience for a Mindful Pause practice which will include a body practice or mindfulness exercise. This midday pause will interrupt the stress response and reclaim a connection to your inner stability and peace.  \n\n\n\nClick here to learn more or to register.
URL:https://gmhec.org/event/mindful-pause/2028-04-25/
CATEGORIES:Social Well-Being,Webinar,Webinar for Everyone,Well-Being
END:VEVENT
BEGIN:VEVENT
DTSTART;TZID=America/New_York:20280427T100000
DTEND;TZID=America/New_York:20280427T110000
DTSTAMP:20260422T042152
CREATED:20250501T204425Z
LAST-MODIFIED:20250501T204427Z
UID:10001381-1840442400-1840446000@gmhec.org
SUMMARY:Movement Meditation
DESCRIPTION:Join Coach Cami\, owner of Guided Resilience fort this is movement class that incorporates basic yoga postures and movement patterns that are easily adaptable to most individuals. You are invited to move as you can – not as you can’t – breathing peace and stability in facing challenge and possibility. \n\n\n\n$5/class You can pay as you go for as many sessions as you like. Honor system. Venmo: Guided Resilience @Guidedresilience   \n\n\n\nClick here to learn more.
URL:https://gmhec.org/event/movement-meditation/2028-04-27/
CATEGORIES:Physical Well-Being,Webinar,Webinar for Everyone,Well-Being
END:VEVENT
BEGIN:VEVENT
DTSTART;TZID=America/New_York:20280502T133000
DTEND;TZID=America/New_York:20280502T134500
DTSTAMP:20260422T042152
CREATED:20250501T205538Z
LAST-MODIFIED:20250501T205539Z
UID:10001642-1840887000-1840887900@gmhec.org
SUMMARY:Mindful Pause
DESCRIPTION:Join Coach Cami\, founder of Guided Resilience for a Mindful Pause practice which will include a body practice or mindfulness exercise. This midday pause will interrupt the stress response and reclaim a connection to your inner stability and peace.  \n\n\n\nClick here to learn more or to register.
URL:https://gmhec.org/event/mindful-pause/2028-05-02/
CATEGORIES:Social Well-Being,Webinar,Webinar for Everyone,Well-Being
END:VEVENT
BEGIN:VEVENT
DTSTART;TZID=America/New_York:20280504T100000
DTEND;TZID=America/New_York:20280504T110000
DTSTAMP:20260422T042152
CREATED:20250501T204425Z
LAST-MODIFIED:20250501T204427Z
UID:10001382-1841047200-1841050800@gmhec.org
SUMMARY:Movement Meditation
DESCRIPTION:Join Coach Cami\, owner of Guided Resilience fort this is movement class that incorporates basic yoga postures and movement patterns that are easily adaptable to most individuals. You are invited to move as you can – not as you can’t – breathing peace and stability in facing challenge and possibility. \n\n\n\n$5/class You can pay as you go for as many sessions as you like. Honor system. Venmo: Guided Resilience @Guidedresilience   \n\n\n\nClick here to learn more.
URL:https://gmhec.org/event/movement-meditation/2028-05-04/
CATEGORIES:Physical Well-Being,Webinar,Webinar for Everyone,Well-Being
END:VEVENT
BEGIN:VEVENT
DTSTART;TZID=America/New_York:20280509T133000
DTEND;TZID=America/New_York:20280509T134500
DTSTAMP:20260422T042152
CREATED:20250501T205538Z
LAST-MODIFIED:20250501T205539Z
UID:10001643-1841491800-1841492700@gmhec.org
SUMMARY:Mindful Pause
DESCRIPTION:Join Coach Cami\, founder of Guided Resilience for a Mindful Pause practice which will include a body practice or mindfulness exercise. This midday pause will interrupt the stress response and reclaim a connection to your inner stability and peace.  \n\n\n\nClick here to learn more or to register.
URL:https://gmhec.org/event/mindful-pause/2028-05-09/
CATEGORIES:Social Well-Being,Webinar,Webinar for Everyone,Well-Being
END:VEVENT
BEGIN:VEVENT
DTSTART;TZID=America/New_York:20280511T100000
DTEND;TZID=America/New_York:20280511T110000
DTSTAMP:20260422T042152
CREATED:20250501T204425Z
LAST-MODIFIED:20250501T204427Z
UID:10001383-1841652000-1841655600@gmhec.org
SUMMARY:Movement Meditation
DESCRIPTION:Join Coach Cami\, owner of Guided Resilience fort this is movement class that incorporates basic yoga postures and movement patterns that are easily adaptable to most individuals. You are invited to move as you can – not as you can’t – breathing peace and stability in facing challenge and possibility. \n\n\n\n$5/class You can pay as you go for as many sessions as you like. Honor system. Venmo: Guided Resilience @Guidedresilience   \n\n\n\nClick here to learn more.
URL:https://gmhec.org/event/movement-meditation/2028-05-11/
CATEGORIES:Physical Well-Being,Webinar,Webinar for Everyone,Well-Being
END:VEVENT
BEGIN:VEVENT
DTSTART;TZID=America/New_York:20280516T133000
DTEND;TZID=America/New_York:20280516T134500
DTSTAMP:20260422T042152
CREATED:20250501T205538Z
LAST-MODIFIED:20250501T205539Z
UID:10001644-1842096600-1842097500@gmhec.org
SUMMARY:Mindful Pause
DESCRIPTION:Join Coach Cami\, founder of Guided Resilience for a Mindful Pause practice which will include a body practice or mindfulness exercise. This midday pause will interrupt the stress response and reclaim a connection to your inner stability and peace.  \n\n\n\nClick here to learn more or to register.
URL:https://gmhec.org/event/mindful-pause/2028-05-16/
CATEGORIES:Social Well-Being,Webinar,Webinar for Everyone,Well-Being
END:VEVENT
BEGIN:VEVENT
DTSTART;TZID=America/New_York:20280518T100000
DTEND;TZID=America/New_York:20280518T110000
DTSTAMP:20260422T042152
CREATED:20250501T204425Z
LAST-MODIFIED:20250501T204427Z
UID:10001384-1842256800-1842260400@gmhec.org
SUMMARY:Movement Meditation
DESCRIPTION:Join Coach Cami\, owner of Guided Resilience fort this is movement class that incorporates basic yoga postures and movement patterns that are easily adaptable to most individuals. You are invited to move as you can – not as you can’t – breathing peace and stability in facing challenge and possibility. \n\n\n\n$5/class You can pay as you go for as many sessions as you like. Honor system. Venmo: Guided Resilience @Guidedresilience   \n\n\n\nClick here to learn more.
URL:https://gmhec.org/event/movement-meditation/2028-05-18/
CATEGORIES:Physical Well-Being,Webinar,Webinar for Everyone,Well-Being
END:VEVENT
BEGIN:VEVENT
DTSTART;TZID=America/New_York:20280523T133000
DTEND;TZID=America/New_York:20280523T134500
DTSTAMP:20260422T042152
CREATED:20250501T205538Z
LAST-MODIFIED:20250501T205539Z
UID:10001645-1842701400-1842702300@gmhec.org
SUMMARY:Mindful Pause
DESCRIPTION:Join Coach Cami\, founder of Guided Resilience for a Mindful Pause practice which will include a body practice or mindfulness exercise. This midday pause will interrupt the stress response and reclaim a connection to your inner stability and peace.  \n\n\n\nClick here to learn more or to register.
URL:https://gmhec.org/event/mindful-pause/2028-05-23/
CATEGORIES:Social Well-Being,Webinar,Webinar for Everyone,Well-Being
END:VEVENT
BEGIN:VEVENT
DTSTART;TZID=America/New_York:20280525T100000
DTEND;TZID=America/New_York:20280525T110000
DTSTAMP:20260422T042152
CREATED:20250501T204425Z
LAST-MODIFIED:20250501T204427Z
UID:10001385-1842861600-1842865200@gmhec.org
SUMMARY:Movement Meditation
DESCRIPTION:Join Coach Cami\, owner of Guided Resilience fort this is movement class that incorporates basic yoga postures and movement patterns that are easily adaptable to most individuals. You are invited to move as you can – not as you can’t – breathing peace and stability in facing challenge and possibility. \n\n\n\n$5/class You can pay as you go for as many sessions as you like. Honor system. Venmo: Guided Resilience @Guidedresilience   \n\n\n\nClick here to learn more.
URL:https://gmhec.org/event/movement-meditation/2028-05-25/
CATEGORIES:Physical Well-Being,Webinar,Webinar for Everyone,Well-Being
END:VEVENT
BEGIN:VEVENT
DTSTART;TZID=America/New_York:20280530T133000
DTEND;TZID=America/New_York:20280530T134500
DTSTAMP:20260422T042152
CREATED:20250501T205538Z
LAST-MODIFIED:20250501T205539Z
UID:10001646-1843306200-1843307100@gmhec.org
SUMMARY:Mindful Pause
DESCRIPTION:Join Coach Cami\, founder of Guided Resilience for a Mindful Pause practice which will include a body practice or mindfulness exercise. This midday pause will interrupt the stress response and reclaim a connection to your inner stability and peace.  \n\n\n\nClick here to learn more or to register.
URL:https://gmhec.org/event/mindful-pause/2028-05-30/
CATEGORIES:Social Well-Being,Webinar,Webinar for Everyone,Well-Being
END:VEVENT
BEGIN:VEVENT
DTSTART;TZID=America/New_York:20280601T100000
DTEND;TZID=America/New_York:20280601T110000
DTSTAMP:20260422T042152
CREATED:20250501T204425Z
LAST-MODIFIED:20250501T204427Z
UID:10001386-1843466400-1843470000@gmhec.org
SUMMARY:Movement Meditation
DESCRIPTION:Join Coach Cami\, owner of Guided Resilience fort this is movement class that incorporates basic yoga postures and movement patterns that are easily adaptable to most individuals. You are invited to move as you can – not as you can’t – breathing peace and stability in facing challenge and possibility. \n\n\n\n$5/class You can pay as you go for as many sessions as you like. Honor system. Venmo: Guided Resilience @Guidedresilience   \n\n\n\nClick here to learn more.
URL:https://gmhec.org/event/movement-meditation/2028-06-01/
CATEGORIES:Physical Well-Being,Webinar,Webinar for Everyone,Well-Being
END:VEVENT
BEGIN:VEVENT
DTSTART;TZID=America/New_York:20280606T133000
DTEND;TZID=America/New_York:20280606T134500
DTSTAMP:20260422T042152
CREATED:20250501T205538Z
LAST-MODIFIED:20250501T205539Z
UID:10001647-1843911000-1843911900@gmhec.org
SUMMARY:Mindful Pause
DESCRIPTION:Join Coach Cami\, founder of Guided Resilience for a Mindful Pause practice which will include a body practice or mindfulness exercise. This midday pause will interrupt the stress response and reclaim a connection to your inner stability and peace.  \n\n\n\nClick here to learn more or to register.
URL:https://gmhec.org/event/mindful-pause/2028-06-06/
CATEGORIES:Social Well-Being,Webinar,Webinar for Everyone,Well-Being
END:VEVENT
BEGIN:VEVENT
DTSTART;TZID=America/New_York:20280608T100000
DTEND;TZID=America/New_York:20280608T110000
DTSTAMP:20260422T042152
CREATED:20250501T204425Z
LAST-MODIFIED:20250501T204427Z
UID:10001387-1844071200-1844074800@gmhec.org
SUMMARY:Movement Meditation
DESCRIPTION:Join Coach Cami\, owner of Guided Resilience fort this is movement class that incorporates basic yoga postures and movement patterns that are easily adaptable to most individuals. You are invited to move as you can – not as you can’t – breathing peace and stability in facing challenge and possibility. \n\n\n\n$5/class You can pay as you go for as many sessions as you like. Honor system. Venmo: Guided Resilience @Guidedresilience   \n\n\n\nClick here to learn more.
URL:https://gmhec.org/event/movement-meditation/2028-06-08/
CATEGORIES:Physical Well-Being,Webinar,Webinar for Everyone,Well-Being
END:VEVENT
BEGIN:VEVENT
DTSTART;TZID=America/New_York:20280613T133000
DTEND;TZID=America/New_York:20280613T134500
DTSTAMP:20260422T042152
CREATED:20250501T205538Z
LAST-MODIFIED:20250501T205539Z
UID:10001648-1844515800-1844516700@gmhec.org
SUMMARY:Mindful Pause
DESCRIPTION:Join Coach Cami\, founder of Guided Resilience for a Mindful Pause practice which will include a body practice or mindfulness exercise. This midday pause will interrupt the stress response and reclaim a connection to your inner stability and peace.  \n\n\n\nClick here to learn more or to register.
URL:https://gmhec.org/event/mindful-pause/2028-06-13/
CATEGORIES:Social Well-Being,Webinar,Webinar for Everyone,Well-Being
END:VEVENT
BEGIN:VEVENT
DTSTART;TZID=America/New_York:20280615T100000
DTEND;TZID=America/New_York:20280615T110000
DTSTAMP:20260422T042152
CREATED:20250501T204425Z
LAST-MODIFIED:20250501T204427Z
UID:10001388-1844676000-1844679600@gmhec.org
SUMMARY:Movement Meditation
DESCRIPTION:Join Coach Cami\, owner of Guided Resilience fort this is movement class that incorporates basic yoga postures and movement patterns that are easily adaptable to most individuals. You are invited to move as you can – not as you can’t – breathing peace and stability in facing challenge and possibility. \n\n\n\n$5/class You can pay as you go for as many sessions as you like. Honor system. Venmo: Guided Resilience @Guidedresilience   \n\n\n\nClick here to learn more.
URL:https://gmhec.org/event/movement-meditation/2028-06-15/
CATEGORIES:Physical Well-Being,Webinar,Webinar for Everyone,Well-Being
END:VEVENT
BEGIN:VEVENT
DTSTART;TZID=America/New_York:20280620T133000
DTEND;TZID=America/New_York:20280620T134500
DTSTAMP:20260422T042152
CREATED:20250501T205538Z
LAST-MODIFIED:20250501T205539Z
UID:10001649-1845120600-1845121500@gmhec.org
SUMMARY:Mindful Pause
DESCRIPTION:Join Coach Cami\, founder of Guided Resilience for a Mindful Pause practice which will include a body practice or mindfulness exercise. This midday pause will interrupt the stress response and reclaim a connection to your inner stability and peace.  \n\n\n\nClick here to learn more or to register.
URL:https://gmhec.org/event/mindful-pause/2028-06-20/
CATEGORIES:Social Well-Being,Webinar,Webinar for Everyone,Well-Being
END:VEVENT
BEGIN:VEVENT
DTSTART;TZID=America/New_York:20280622T100000
DTEND;TZID=America/New_York:20280622T110000
DTSTAMP:20260422T042152
CREATED:20250501T204425Z
LAST-MODIFIED:20250501T204427Z
UID:10001389-1845280800-1845284400@gmhec.org
SUMMARY:Movement Meditation
DESCRIPTION:Join Coach Cami\, owner of Guided Resilience fort this is movement class that incorporates basic yoga postures and movement patterns that are easily adaptable to most individuals. You are invited to move as you can – not as you can’t – breathing peace and stability in facing challenge and possibility. \n\n\n\n$5/class You can pay as you go for as many sessions as you like. Honor system. Venmo: Guided Resilience @Guidedresilience   \n\n\n\nClick here to learn more.
URL:https://gmhec.org/event/movement-meditation/2028-06-22/
CATEGORIES:Physical Well-Being,Webinar,Webinar for Everyone,Well-Being
END:VEVENT
BEGIN:VEVENT
DTSTART;TZID=America/New_York:20280627T133000
DTEND;TZID=America/New_York:20280627T134500
DTSTAMP:20260422T042152
CREATED:20250501T205538Z
LAST-MODIFIED:20250501T205539Z
UID:10001650-1845725400-1845726300@gmhec.org
SUMMARY:Mindful Pause
DESCRIPTION:Join Coach Cami\, founder of Guided Resilience for a Mindful Pause practice which will include a body practice or mindfulness exercise. This midday pause will interrupt the stress response and reclaim a connection to your inner stability and peace.  \n\n\n\nClick here to learn more or to register.
URL:https://gmhec.org/event/mindful-pause/2028-06-27/
CATEGORIES:Social Well-Being,Webinar,Webinar for Everyone,Well-Being
END:VEVENT
BEGIN:VEVENT
DTSTART;TZID=America/New_York:20280629T100000
DTEND;TZID=America/New_York:20280629T110000
DTSTAMP:20260422T042152
CREATED:20250501T204425Z
LAST-MODIFIED:20250501T204427Z
UID:10001390-1845885600-1845889200@gmhec.org
SUMMARY:Movement Meditation
DESCRIPTION:Join Coach Cami\, owner of Guided Resilience fort this is movement class that incorporates basic yoga postures and movement patterns that are easily adaptable to most individuals. You are invited to move as you can – not as you can’t – breathing peace and stability in facing challenge and possibility. \n\n\n\n$5/class You can pay as you go for as many sessions as you like. Honor system. Venmo: Guided Resilience @Guidedresilience   \n\n\n\nClick here to learn more.
URL:https://gmhec.org/event/movement-meditation/2028-06-29/
CATEGORIES:Physical Well-Being,Webinar,Webinar for Everyone,Well-Being
END:VEVENT
BEGIN:VEVENT
DTSTART;TZID=America/New_York:20280704T133000
DTEND;TZID=America/New_York:20280704T134500
DTSTAMP:20260422T042152
CREATED:20250501T205538Z
LAST-MODIFIED:20250501T205539Z
UID:10001651-1846330200-1846331100@gmhec.org
SUMMARY:Mindful Pause
DESCRIPTION:Join Coach Cami\, founder of Guided Resilience for a Mindful Pause practice which will include a body practice or mindfulness exercise. This midday pause will interrupt the stress response and reclaim a connection to your inner stability and peace.  \n\n\n\nClick here to learn more or to register.
URL:https://gmhec.org/event/mindful-pause/2028-07-04/
CATEGORIES:Social Well-Being,Webinar,Webinar for Everyone,Well-Being
END:VEVENT
BEGIN:VEVENT
DTSTART;TZID=America/New_York:20280706T100000
DTEND;TZID=America/New_York:20280706T110000
DTSTAMP:20260422T042152
CREATED:20250501T204425Z
LAST-MODIFIED:20250501T204427Z
UID:10001391-1846490400-1846494000@gmhec.org
SUMMARY:Movement Meditation
DESCRIPTION:Join Coach Cami\, owner of Guided Resilience fort this is movement class that incorporates basic yoga postures and movement patterns that are easily adaptable to most individuals. You are invited to move as you can – not as you can’t – breathing peace and stability in facing challenge and possibility. \n\n\n\n$5/class You can pay as you go for as many sessions as you like. Honor system. Venmo: Guided Resilience @Guidedresilience   \n\n\n\nClick here to learn more.
URL:https://gmhec.org/event/movement-meditation/2028-07-06/
CATEGORIES:Physical Well-Being,Webinar,Webinar for Everyone,Well-Being
END:VEVENT
BEGIN:VEVENT
DTSTART;TZID=America/New_York:20280711T133000
DTEND;TZID=America/New_York:20280711T134500
DTSTAMP:20260422T042152
CREATED:20250501T205538Z
LAST-MODIFIED:20250501T205539Z
UID:10001652-1846935000-1846935900@gmhec.org
SUMMARY:Mindful Pause
DESCRIPTION:Join Coach Cami\, founder of Guided Resilience for a Mindful Pause practice which will include a body practice or mindfulness exercise. This midday pause will interrupt the stress response and reclaim a connection to your inner stability and peace.  \n\n\n\nClick here to learn more or to register.
URL:https://gmhec.org/event/mindful-pause/2028-07-11/
CATEGORIES:Social Well-Being,Webinar,Webinar for Everyone,Well-Being
END:VEVENT
BEGIN:VEVENT
DTSTART;TZID=America/New_York:20280713T100000
DTEND;TZID=America/New_York:20280713T110000
DTSTAMP:20260422T042152
CREATED:20250501T204425Z
LAST-MODIFIED:20250501T204427Z
UID:10001392-1847095200-1847098800@gmhec.org
SUMMARY:Movement Meditation
DESCRIPTION:Join Coach Cami\, owner of Guided Resilience fort this is movement class that incorporates basic yoga postures and movement patterns that are easily adaptable to most individuals. You are invited to move as you can – not as you can’t – breathing peace and stability in facing challenge and possibility. \n\n\n\n$5/class You can pay as you go for as many sessions as you like. Honor system. Venmo: Guided Resilience @Guidedresilience   \n\n\n\nClick here to learn more.
URL:https://gmhec.org/event/movement-meditation/2028-07-13/
CATEGORIES:Physical Well-Being,Webinar,Webinar for Everyone,Well-Being
END:VEVENT
BEGIN:VEVENT
DTSTART;TZID=America/New_York:20280718T133000
DTEND;TZID=America/New_York:20280718T134500
DTSTAMP:20260422T042152
CREATED:20250501T205538Z
LAST-MODIFIED:20250501T205539Z
UID:10001653-1847539800-1847540700@gmhec.org
SUMMARY:Mindful Pause
DESCRIPTION:Join Coach Cami\, founder of Guided Resilience for a Mindful Pause practice which will include a body practice or mindfulness exercise. This midday pause will interrupt the stress response and reclaim a connection to your inner stability and peace.  \n\n\n\nClick here to learn more or to register.
URL:https://gmhec.org/event/mindful-pause/2028-07-18/
CATEGORIES:Social Well-Being,Webinar,Webinar for Everyone,Well-Being
END:VEVENT
BEGIN:VEVENT
DTSTART;TZID=America/New_York:20280720T100000
DTEND;TZID=America/New_York:20280720T110000
DTSTAMP:20260422T042152
CREATED:20250501T204425Z
LAST-MODIFIED:20250501T204427Z
UID:10001393-1847700000-1847703600@gmhec.org
SUMMARY:Movement Meditation
DESCRIPTION:Join Coach Cami\, owner of Guided Resilience fort this is movement class that incorporates basic yoga postures and movement patterns that are easily adaptable to most individuals. You are invited to move as you can – not as you can’t – breathing peace and stability in facing challenge and possibility. \n\n\n\n$5/class You can pay as you go for as many sessions as you like. Honor system. Venmo: Guided Resilience @Guidedresilience   \n\n\n\nClick here to learn more.
URL:https://gmhec.org/event/movement-meditation/2028-07-20/
CATEGORIES:Physical Well-Being,Webinar,Webinar for Everyone,Well-Being
END:VEVENT
BEGIN:VEVENT
DTSTART;TZID=America/New_York:20280725T133000
DTEND;TZID=America/New_York:20280725T134500
DTSTAMP:20260422T042152
CREATED:20250501T205538Z
LAST-MODIFIED:20250501T205539Z
UID:10001654-1848144600-1848145500@gmhec.org
SUMMARY:Mindful Pause
DESCRIPTION:Join Coach Cami\, founder of Guided Resilience for a Mindful Pause practice which will include a body practice or mindfulness exercise. This midday pause will interrupt the stress response and reclaim a connection to your inner stability and peace.  \n\n\n\nClick here to learn more or to register.
URL:https://gmhec.org/event/mindful-pause/2028-07-25/
CATEGORIES:Social Well-Being,Webinar,Webinar for Everyone,Well-Being
END:VEVENT
BEGIN:VEVENT
DTSTART;TZID=America/New_York:20280727T100000
DTEND;TZID=America/New_York:20280727T110000
DTSTAMP:20260422T042152
CREATED:20250501T204425Z
LAST-MODIFIED:20250501T204427Z
UID:10001394-1848304800-1848308400@gmhec.org
SUMMARY:Movement Meditation
DESCRIPTION:Join Coach Cami\, owner of Guided Resilience fort this is movement class that incorporates basic yoga postures and movement patterns that are easily adaptable to most individuals. You are invited to move as you can – not as you can’t – breathing peace and stability in facing challenge and possibility. \n\n\n\n$5/class You can pay as you go for as many sessions as you like. Honor system. Venmo: Guided Resilience @Guidedresilience   \n\n\n\nClick here to learn more.
URL:https://gmhec.org/event/movement-meditation/2028-07-27/
CATEGORIES:Physical Well-Being,Webinar,Webinar for Everyone,Well-Being
END:VEVENT
BEGIN:VEVENT
DTSTART;TZID=America/New_York:20280801T133000
DTEND;TZID=America/New_York:20280801T134500
DTSTAMP:20260422T042152
CREATED:20250501T205538Z
LAST-MODIFIED:20250501T205539Z
UID:10001655-1848749400-1848750300@gmhec.org
SUMMARY:Mindful Pause
DESCRIPTION:Join Coach Cami\, founder of Guided Resilience for a Mindful Pause practice which will include a body practice or mindfulness exercise. This midday pause will interrupt the stress response and reclaim a connection to your inner stability and peace.  \n\n\n\nClick here to learn more or to register.
URL:https://gmhec.org/event/mindful-pause/2028-08-01/
CATEGORIES:Social Well-Being,Webinar,Webinar for Everyone,Well-Being
END:VEVENT
BEGIN:VEVENT
DTSTART;TZID=America/New_York:20280803T100000
DTEND;TZID=America/New_York:20280803T110000
DTSTAMP:20260422T042152
CREATED:20250501T204425Z
LAST-MODIFIED:20250501T204427Z
UID:10001395-1848909600-1848913200@gmhec.org
SUMMARY:Movement Meditation
DESCRIPTION:Join Coach Cami\, owner of Guided Resilience fort this is movement class that incorporates basic yoga postures and movement patterns that are easily adaptable to most individuals. You are invited to move as you can – not as you can’t – breathing peace and stability in facing challenge and possibility. \n\n\n\n$5/class You can pay as you go for as many sessions as you like. Honor system. Venmo: Guided Resilience @Guidedresilience   \n\n\n\nClick here to learn more.
URL:https://gmhec.org/event/movement-meditation/2028-08-03/
CATEGORIES:Physical Well-Being,Webinar,Webinar for Everyone,Well-Being
END:VEVENT
END:VCALENDAR